BEGIN:VCALENDAR
VERSION:2.0
PRODID:-//SST de Québec - ECPv6.15.20//NONSGML v1.0//EN
CALSCALE:GREGORIAN
METHOD:PUBLISH
X-WR-CALNAME:SST de Québec
X-ORIGINAL-URL:https://sstquebec.org
X-WR-CALDESC:Évènements pour SST de Québec
REFRESH-INTERVAL;VALUE=DURATION:PT1H
X-Robots-Tag:noindex
X-PUBLISHED-TTL:PT1H
BEGIN:VTIMEZONE
TZID:America/Halifax
BEGIN:DAYLIGHT
TZOFFSETFROM:-0400
TZOFFSETTO:-0300
TZNAME:ADT
DTSTART:20250309T060000
END:DAYLIGHT
BEGIN:STANDARD
TZOFFSETFROM:-0300
TZOFFSETTO:-0400
TZNAME:AST
DTSTART:20251102T050000
END:STANDARD
BEGIN:DAYLIGHT
TZOFFSETFROM:-0400
TZOFFSETTO:-0300
TZNAME:ADT
DTSTART:20260308T060000
END:DAYLIGHT
BEGIN:STANDARD
TZOFFSETFROM:-0300
TZOFFSETTO:-0400
TZNAME:AST
DTSTART:20261101T050000
END:STANDARD
BEGIN:DAYLIGHT
TZOFFSETFROM:-0400
TZOFFSETTO:-0300
TZNAME:ADT
DTSTART:20270314T060000
END:DAYLIGHT
BEGIN:STANDARD
TZOFFSETFROM:-0300
TZOFFSETTO:-0400
TZNAME:AST
DTSTART:20271107T050000
END:STANDARD
END:VTIMEZONE
BEGIN:VEVENT
DTSTART;TZID=America/Halifax:20261101T173000
DTEND;TZID=America/Halifax:20261101T190000
DTSTAMP:20260419T101001
CREATED:20260326T213032Z
LAST-MODIFIED:20260326T213134Z
UID:1916-1793554200-1793559600@sstquebec.org
SUMMARY:Présentation Datadis
DESCRIPTION:
URL:https://sstquebec.org/event/presentation-datadis/
ATTACH;FMTTYPE=image/jpeg:https://sstquebec.org/wp-content/uploads/2024/08/SSTQ-AVenir.jpg
END:VEVENT
END:VCALENDAR