BEGIN:VCALENDAR
VERSION:2.0
PRODID:-//SST de Québec - ECPv6.15.20//NONSGML v1.0//EN
CALSCALE:GREGORIAN
METHOD:PUBLISH
X-WR-CALNAME:SST de Québec
X-ORIGINAL-URL:https://sstquebec.org
X-WR-CALDESC:Évènements pour SST de Québec
REFRESH-INTERVAL;VALUE=DURATION:PT1H
X-Robots-Tag:noindex
X-PUBLISHED-TTL:PT1H
BEGIN:VTIMEZONE
TZID:America/Halifax
BEGIN:DAYLIGHT
TZOFFSETFROM:-0400
TZOFFSETTO:-0300
TZNAME:ADT
DTSTART:20250309T060000
END:DAYLIGHT
BEGIN:STANDARD
TZOFFSETFROM:-0300
TZOFFSETTO:-0400
TZNAME:AST
DTSTART:20251102T050000
END:STANDARD
BEGIN:DAYLIGHT
TZOFFSETFROM:-0400
TZOFFSETTO:-0300
TZNAME:ADT
DTSTART:20260308T060000
END:DAYLIGHT
BEGIN:STANDARD
TZOFFSETFROM:-0300
TZOFFSETTO:-0400
TZNAME:AST
DTSTART:20261101T050000
END:STANDARD
BEGIN:DAYLIGHT
TZOFFSETFROM:-0400
TZOFFSETTO:-0300
TZNAME:ADT
DTSTART:20270314T060000
END:DAYLIGHT
BEGIN:STANDARD
TZOFFSETFROM:-0300
TZOFFSETTO:-0400
TZNAME:AST
DTSTART:20271107T050000
END:STANDARD
END:VTIMEZONE
BEGIN:VEVENT
DTSTART;TZID=America/Halifax:20261001T173000
DTEND;TZID=America/Halifax:20261001T190000
DTSTAMP:20260419T095935
CREATED:20260326T213016Z
LAST-MODIFIED:20260326T213153Z
UID:1914-1790875800-1790881200@sstquebec.org
SUMMARY:Présentation Mack Ste-Foy
DESCRIPTION:
URL:https://sstquebec.org/event/presentation-mack-ste-foy/
ATTACH;FMTTYPE=image/jpeg:https://sstquebec.org/wp-content/uploads/2024/08/SSTQ-AVenir.jpg
END:VEVENT
END:VCALENDAR